BEGIN:VCALENDAR
VERSION:2.0
PRODID:-//Grace Lutheran Church - ECPv6.15.20//NONSGML v1.0//EN
CALSCALE:GREGORIAN
METHOD:PUBLISH
X-ORIGINAL-URL:https://gracelc.org
X-WR-CALDESC:Events for Grace Lutheran Church
REFRESH-INTERVAL;VALUE=DURATION:PT1H
X-Robots-Tag:noindex
X-PUBLISHED-TTL:PT1H
BEGIN:VTIMEZONE
TZID:America/New_York
BEGIN:DAYLIGHT
TZOFFSETFROM:-0500
TZOFFSETTO:-0400
TZNAME:EDT
DTSTART:20220313T070000
END:DAYLIGHT
BEGIN:STANDARD
TZOFFSETFROM:-0400
TZOFFSETTO:-0500
TZNAME:EST
DTSTART:20221106T060000
END:STANDARD
BEGIN:DAYLIGHT
TZOFFSETFROM:-0500
TZOFFSETTO:-0400
TZNAME:EDT
DTSTART:20230312T070000
END:DAYLIGHT
BEGIN:STANDARD
TZOFFSETFROM:-0400
TZOFFSETTO:-0500
TZNAME:EST
DTSTART:20231105T060000
END:STANDARD
BEGIN:DAYLIGHT
TZOFFSETFROM:-0500
TZOFFSETTO:-0400
TZNAME:EDT
DTSTART:20240310T070000
END:DAYLIGHT
BEGIN:STANDARD
TZOFFSETFROM:-0400
TZOFFSETTO:-0500
TZNAME:EST
DTSTART:20241103T060000
END:STANDARD
BEGIN:DAYLIGHT
TZOFFSETFROM:-0500
TZOFFSETTO:-0400
TZNAME:EDT
DTSTART:20250309T070000
END:DAYLIGHT
BEGIN:STANDARD
TZOFFSETFROM:-0400
TZOFFSETTO:-0500
TZNAME:EST
DTSTART:20251102T060000
END:STANDARD
BEGIN:DAYLIGHT
TZOFFSETFROM:-0500
TZOFFSETTO:-0400
TZNAME:EDT
DTSTART:20260308T070000
END:DAYLIGHT
BEGIN:STANDARD
TZOFFSETFROM:-0400
TZOFFSETTO:-0500
TZNAME:EST
DTSTART:20261101T060000
END:STANDARD
BEGIN:DAYLIGHT
TZOFFSETFROM:-0500
TZOFFSETTO:-0400
TZNAME:EDT
DTSTART:20270314T070000
END:DAYLIGHT
BEGIN:STANDARD
TZOFFSETFROM:-0400
TZOFFSETTO:-0500
TZNAME:EST
DTSTART:20271107T060000
END:STANDARD
END:VTIMEZONE
BEGIN:VEVENT
DTSTART;TZID=America/New_York:20260318T140000
DTEND;TZID=America/New_York:20260318T153000
DTSTAMP:20260420T010503
CREATED:20260113T141348Z
LAST-MODIFIED:20260113T141348Z
UID:32331-1773842400-1773847800@gracelc.org
SUMMARY:CLV Gathering & Reception
DESCRIPTION:
URL:https://gracelc.org/event/clv-gathering-reception-4/
LOCATION:Carroll Lutheran Village\, 300 St Luke Circle\, Westminster\, MD\, 21158\, United States
END:VEVENT
BEGIN:VEVENT
DTSTART;TZID=America/New_York:20251217T120000
DTEND;TZID=America/New_York:20251217T140000
DTSTAMP:20260420T010503
CREATED:20251017T125416Z
LAST-MODIFIED:20251017T125416Z
UID:31483-1765972800-1765980000@gracelc.org
SUMMARY:CLV Gathering & Reception
DESCRIPTION:
URL:https://gracelc.org/event/clv-gathering-reception-3/
LOCATION:Carroll Lutheran Village\, 300 St Luke Circle\, Westminster\, MD\, 21158\, United States
END:VEVENT
BEGIN:VEVENT
DTSTART;TZID=America/New_York:20251103T183000
DTEND;TZID=America/New_York:20251103T203000
DTSTAMP:20260420T010503
CREATED:20250925T181217Z
LAST-MODIFIED:20250929T180433Z
UID:31465-1762194600-1762201800@gracelc.org
SUMMARY:Westminster Men's Conference Dinner
DESCRIPTION:
URL:https://gracelc.org/event/westminster-mens-conference-dinner/
LOCATION:Carroll Lutheran Village\, 300 St Luke Circle\, Westminster\, MD\, 21158\, United States
END:VEVENT
BEGIN:VEVENT
DTSTART;TZID=America/New_York:20250917T140000
DTEND;TZID=America/New_York:20250917T153000
DTSTAMP:20260420T010503
CREATED:20250717T185233Z
LAST-MODIFIED:20250717T185233Z
UID:31024-1758117600-1758123000@gracelc.org
SUMMARY:CLV Gathering & Reception
DESCRIPTION:
URL:https://gracelc.org/event/clv-gathering-reception-2/
LOCATION:Carroll Lutheran Village\, 300 St Luke Circle\, Westminster\, MD\, 21158\, United States
END:VEVENT
BEGIN:VEVENT
DTSTART;TZID=America/New_York:20250618T140000
DTEND;TZID=America/New_York:20250618T153000
DTSTAMP:20260420T010503
CREATED:20250605T175622Z
LAST-MODIFIED:20250605T175622Z
UID:30952-1750255200-1750260600@gracelc.org
SUMMARY:CLV Grace Gathering
DESCRIPTION:
URL:https://gracelc.org/event/clv-grace-gathering-4/
LOCATION:Carroll Lutheran Village\, 300 St Luke Circle\, Westminster\, MD\, 21158\, United States
END:VEVENT
BEGIN:VEVENT
DTSTART;TZID=America/New_York:20250428T183000
DTEND;TZID=America/New_York:20250428T203000
DTSTAMP:20260420T010503
CREATED:20250417T210040Z
LAST-MODIFIED:20250417T210040Z
UID:30881-1745865000-1745872200@gracelc.org
SUMMARY:Men's Lutheran Conference Spring Dinner
DESCRIPTION:
URL:https://gracelc.org/event/mens-lutheran-conference-spring-dinner/
LOCATION:Carroll Lutheran Village\, 300 St Luke Circle\, Westminster\, MD\, 21158\, United States
END:VEVENT
BEGIN:VEVENT
DTSTART;TZID=America/New_York:20250318T140000
DTEND;TZID=America/New_York:20250318T153000
DTSTAMP:20260420T010503
CREATED:20250128T210030Z
LAST-MODIFIED:20250128T210051Z
UID:30710-1742306400-1742311800@gracelc.org
SUMMARY:CLV Grace Gathering
DESCRIPTION:
URL:https://gracelc.org/event/clv-grace-gathering-3/
LOCATION:Carroll Lutheran Village\, 300 St Luke Circle\, Westminster\, MD\, 21158\, United States
END:VEVENT
BEGIN:VEVENT
DTSTART;TZID=America/New_York:20241210T123000
DTEND;TZID=America/New_York:20241210T140000
DTSTAMP:20260420T010503
CREATED:20240925T181259Z
LAST-MODIFIED:20241212T191857Z
UID:30198-1733833800-1733839200@gracelc.org
SUMMARY:CLV Grace Gathering
DESCRIPTION:
URL:https://gracelc.org/event/clv-grace-gathering-2/
LOCATION:Carroll Lutheran Village\, 300 St Luke Circle\, Westminster\, MD\, 21158\, United States
END:VEVENT
BEGIN:VEVENT
DTSTART;TZID=America/New_York:20241028T183000
DTEND;TZID=America/New_York:20241028T203000
DTSTAMP:20260420T010503
CREATED:20240923T162136Z
LAST-MODIFIED:20240923T162136Z
UID:30192-1730140200-1730147400@gracelc.org
SUMMARY:Westminster Conference Lutheran Men's Dinner
DESCRIPTION:
URL:https://gracelc.org/event/westminster-conference-lutheran-mens-dinner/
LOCATION:Carroll Lutheran Village\, 300 St Luke Circle\, Westminster\, MD\, 21158\, United States
END:VEVENT
BEGIN:VEVENT
DTSTART;TZID=America/New_York:20240918T140000
DTEND;TZID=America/New_York:20240918T160000
DTSTAMP:20260420T010503
CREATED:20240909T164724Z
LAST-MODIFIED:20240909T164724Z
UID:30140-1726668000-1726675200@gracelc.org
SUMMARY:CLV Grace Gathering
DESCRIPTION:
URL:https://gracelc.org/event/clv-grace-gathering/
LOCATION:Carroll Lutheran Village\, 300 St Luke Circle\, Westminster\, MD\, 21158\, United States
END:VEVENT
BEGIN:VEVENT
DTSTART;TZID=America/New_York:20240619T140000
DTEND;TZID=America/New_York:20240619T160000
DTSTAMP:20260420T010503
CREATED:20240613T202828Z
LAST-MODIFIED:20240613T202828Z
UID:28673-1718805600-1718812800@gracelc.org
SUMMARY:CLV Gathering Grace Gathering
DESCRIPTION:
URL:https://gracelc.org/event/clv-gathering-grace-gathering/
LOCATION:Carroll Lutheran Village\, 300 St Luke Circle\, Westminster\, MD\, 21158\, United States
END:VEVENT
BEGIN:VEVENT
DTSTART;TZID=America/New_York:20240519T150000
DTEND;TZID=America/New_York:20240519T170000
DTSTAMP:20260420T010503
CREATED:20240517T231119Z
LAST-MODIFIED:20240517T231119Z
UID:28631-1716130800-1716138000@gracelc.org
SUMMARY:Choirpalooza
DESCRIPTION:
URL:https://gracelc.org/event/choirpalooza/
LOCATION:Carroll Lutheran Village\, 300 St Luke Circle\, Westminster\, MD\, 21158\, United States
END:VEVENT
BEGIN:VEVENT
DTSTART;TZID=America/New_York:20240422T183000
DTEND;TZID=America/New_York:20240422T200000
DTSTAMP:20260420T010503
CREATED:20240420T161000Z
LAST-MODIFIED:20240420T161000Z
UID:28608-1713810600-1713816000@gracelc.org
SUMMARY:Westminster Conference Men’s Dinner
DESCRIPTION:
URL:https://gracelc.org/event/westminster-conference-mens-dinner/
LOCATION:Carroll Lutheran Village\, 300 St Luke Circle\, Westminster\, MD\, 21158\, United States
END:VEVENT
BEGIN:VEVENT
DTSTART;TZID=America/New_York:20231212T120000
DTEND;TZID=America/New_York:20231212T133000
DTSTAMP:20260420T010503
CREATED:20231210T003514Z
LAST-MODIFIED:20231210T003514Z
UID:27444-1702382400-1702387800@gracelc.org
SUMMARY:CLV Gathering & Reception
DESCRIPTION:
URL:https://gracelc.org/event/clv-gathering-reception/
LOCATION:Carroll Lutheran Village\, 300 St Luke Circle\, Westminster\, MD\, 21158\, United States
END:VEVENT
BEGIN:VEVENT
DTSTART;TZID=America/New_York:20230622T140000
DTEND;TZID=America/New_York:20230622T160000
DTSTAMP:20260420T010503
CREATED:20230617T200607Z
LAST-MODIFIED:20230617T200607Z
UID:26781-1687442400-1687449600@gracelc.org
SUMMARY:Carroll Lutheran Village Meet -N- Greet
DESCRIPTION:
URL:https://gracelc.org/event/carroll-lutheran-village-meet-n-greet/
LOCATION:Carroll Lutheran Village\, 300 St Luke Circle\, Westminster\, MD\, 21158\, United States
END:VEVENT
END:VCALENDAR